BEGIN:VCALENDAR
VERSION:2.0
PRODID:-// - ECPv6.15.4//NONSGML v1.0//EN
CALSCALE:GREGORIAN
METHOD:PUBLISH
X-ORIGINAL-URL:https://lreee.org
X-WR-CALDESC:Events for 
REFRESH-INTERVAL;VALUE=DURATION:PT1H
X-Robots-Tag:noindex
X-PUBLISHED-TTL:PT1H
BEGIN:VTIMEZONE
TZID:UTC
BEGIN:STANDARD
TZOFFSETFROM:+0000
TZOFFSETTO:+0000
TZNAME:UTC
DTSTART:20230101T000000
END:STANDARD
END:VTIMEZONE
BEGIN:VEVENT
DTSTART;TZID=UTC:20231025T080000
DTEND;TZID=UTC:20231025T170000
DTSTAMP:20260419T153011
CREATED:20231025T075707Z
LAST-MODIFIED:20231025T075820Z
UID:938-1698220800-1698253200@lreee.org
SUMMARY:Deye Service Lebanon training 2023
DESCRIPTION:Deye Service Lebanon is preparing its training program for all interested personnel who are looking to enhance their knowledge in the solar industry and product installation\, register today and join the global solar revolution \nURL Registration: https://forms.gle/JsdujsS94BYMq9Cz5
URL:https://lreee.org/event/deye-service-lebanon-training-2023/
CATEGORIES:events-jc
END:VEVENT
BEGIN:VEVENT
DTSTART;TZID=UTC:20231023T203000
DTEND;TZID=UTC:20231023T220000
DTSTAMP:20260419T153011
CREATED:20231018T112618Z
LAST-MODIFIED:20231018T112618Z
UID:922-1698093000-1698098400@lreee.org
SUMMARY:BECKHOFF Automation
DESCRIPTION:Join us for an exciting workshop and unlock your potential with a golden internship opportunity! 🚀 \n🎙️ Speaker: Eng. Youssef Al-Hakim \nYoussef Al Hakim is an accomplished electrical engineer who graduated with honors from the Lebanese International University and working as a Technical Sales Engineer as a Beckhoff Specialist at ITEC Lebanon. He has excelled in the field of automation\, particularly in utilizing Beckhoff Automation’s PC-based control systems for projects encompassing process automation\, building automation\, and manufacturing. He is also well-versed in Supervisory Control and Data Acquisition (SCADA) systems\, contributing to enhanced control\, monitoring\, and operational efficiency. His career stands as a testament to his commitment to innovation and the advancement of the automation industry. Therefore Youssef continues to make significant contributions in this dynamic field. \n🗓️ Date and Time: \nDate: Monday\, October 23\, 2023\nTime: 3:30 PM (Beirut Time\, GMT +2) \n📍 Location: \nVenue: LIU Beirut Campus\, Block-B Auditorium \nRegistration link: \nhttps://docs.google.com/forms/d/e/1FAIpQLSf2uBtcXU72TtcGNeGDv4ynuYpJe4OE319yg2DwjoMtC1A1Pw/viewform?usp=sf_link
URL:https://lreee.org/event/beckhoff-automation/
CATEGORIES:events-jc
END:VEVENT
BEGIN:VEVENT
DTSTART;TZID=UTC:20230922T093000
DTEND;TZID=UTC:20230922T110000
DTSTAMP:20260419T153011
CREATED:20230912T181409Z
LAST-MODIFIED:20230912T181409Z
UID:872-1695375000-1695380400@lreee.org
SUMMARY:Beirut Energy Week 2023
DESCRIPTION:Hello everyone\, \nWe invite you to join us during Beirut Energy Week 2023 on Friday\, September 22nd from 9:30 AM to 10:45 AM in Hotel le Royal \nRegistration URL:\nhttps://forms.gle/NQyauBNNzBVvTZR36
URL:https://lreee.org/event/beirut-energy-week-2023/
CATEGORIES:events-jc
END:VEVENT
BEGIN:VEVENT
DTSTART;TZID=UTC:20230804T110000
DTEND;TZID=UTC:20230804T120000
DTSTAMP:20260419T153011
CREATED:20230719T001849Z
LAST-MODIFIED:20230719T001849Z
UID:844-1691146800-1691150400@lreee.org
SUMMARY:Solid State Transformers August 4
DESCRIPTION:We are happy to announce our August event!🎉 \nJoin us to broaden your knowledge in Solid State Transformers and get an overview on these SSTs and know more about their design criteria with Dr. Ilknur Colak\, technical director at Schneider Electric – Secure Power. \n📆 Friday August 4th\, 11:00 AM Lebanon Time\n🔗https://us02web.zoom.us/j/88365954126?pwd=Y2haZ3V1c09aczk1bXdwbHBMcTZvUT09
URL:https://lreee.org/event/solid-state-transformers-august-4/
END:VEVENT
BEGIN:VEVENT
DTSTART;TZID=UTC:20230624T080000
DTEND;TZID=UTC:20230624T170000
DTSTAMP:20260419T153011
CREATED:20230528T101241Z
LAST-MODIFIED:20230530T204829Z
UID:807-1687593600-1687626000@lreee.org
SUMMARY:YESIST 2023
DESCRIPTION:Youth Endeavors For Social Innovation Using Sustainable Technology \n\n\n\n\n\nYESIST12 is an International talent show\, consisting of the following six tracks; Innovation\nChallenge\, Junior Einstein Track\, Maker Fair\, WePower Track\, Special Track\, IEngage Track. Its\npurpose is to unify social responsibility and ethics in young minds through activities and to\nencourage service-oriented engineering practice.\n\n\n\nIEEE-YESIST12 Global Finale will be held in Egypt on September 2nd and 3rd\, 2023. Pilots were\nselected from all over the world to conduct the preliminary competition of IEEE YESIST12.\nIEEE Lebanon Section was selected as a Pilot and will be organizing its in-person competition\non Saturday June 24\, 2023 at the Lebanese International University.\n\n\n\nIEEE Lebanon Section will apply 4 tracks:\n\n\n1. WePower Track\n2. Special Track\n3. Maker Fair\n4. Innovation Challenge\n\n\nURL Registration:\nhttps://portal.ieeeyesist12.org/lup/\n\n\n\n\n\n\n 
URL:https://lreee.org/event/yesist-2023/
CATEGORIES:events-jc
END:VEVENT
BEGIN:VEVENT
DTSTART;TZID=UTC:20230526T110000
DTEND;TZID=UTC:20230526T120000
DTSTAMP:20260419T153011
CREATED:20230524T192922Z
LAST-MODIFIED:20230524T193047Z
UID:803-1685098800-1685102400@lreee.org
SUMMARY:Introduction to Programmable logic controllers (PLC) - May 26\, 2023
DESCRIPTION:Introduction to Programmable logic controllers (PLC) \n🎙️| Who will give this session? \n▶️| Ali Koubayssi \nAli Koubayssi completed his B.S. and M.S. degrees in Electrical Engineering from the Lebanese International University in 2014 and 2016\, respectively. He is currently pursuing his Ph.D. In 2015\, he began working as a lab instructor at the same university. With over 10 research papers published in various IEEE conferences and journals\, Eng. Koubayssi has also provided supervision and guidance for numerous undergraduate and graduate projects. He is an active member of the OEA and IEEE\, specifically within the IEEE Power & Energy Society Membership (PES). Currently serving as the webmaster for the joint chapter\, IE13/PE31/CAS04/PEL35 (CH08625)\, his research interests encompass fault detection\, hybrid power system design\, smart grids\, and renewable energy systems. \n⏺️| Topics to be discussed \nIn various everyday operations or industrial processes\, the control of devices or physical quantities such as time\, temperature\, sound\, and light is crucial to achieving the desired outcome. For instance\, an airplane would not be useful to a pilot if they cannot navigate it as intended\, and an air-conditioner would be ineffective if it cannot regulate the room temperature. These examples highlight the importance of process control. \nThis workshop will focus on the following: \n• The distinction between manual and automatic control.\n• The definition and role of Programmable Logic Controllers (PLCs).\n• An exploration of hard-wired relays.\n• The advantages offered by PLCs compared to hard-wired relays.\n• A comparison between PLCs and microcontrollers. \n🗓| When will this happen?\nFriday\, May 26\, 2023 | at 11:00 Am\, Beirut Time (GMT +2) \n📍| Where’s the location? \nLIU Beirut Campus (Room: 203B) \n💰| How much am I going to pay?\nIt’s absolutely free.\nWe prefer to create free of charge events about topics without any restriction\, so no money is needed to attend the seminar! \n✍| Registration link \nhttps://forms.gle/SFEVUw9udBbNwG4D7 \n#Automation #PLC #workshop #Power #IEEE #LIU #Lebanon
URL:https://lreee.org/event/introduction-to-programmable-logic-controllers-plc-may-26-2023/
CATEGORIES:events-jc
END:VEVENT
BEGIN:VEVENT
DTSTART;TZID=UTC:20230524T080000
DTEND;TZID=UTC:20230524T123000
DTSTAMP:20260419T153011
CREATED:20230513T111921Z
LAST-MODIFIED:20230513T111921Z
UID:788-1684915200-1684931400@lreee.org
SUMMARY:ZAHRANI POWER PLANT FIELD VISIT 2023 #2 24 May 2023
DESCRIPTION:We cordially invite you to join us on Wednesday\, May 24th\, 2023 for a highly informative and educational field visit to the Zahrani Power Plant. This event is an unparalleled opportunity to gain invaluable insights into the cutting-edge technology and processes behind modern power generation. \nThe field visit will commence promptly at 8:00 AM at the Lebanese International University\, whereupon attendees will board the university bus for a comfortable and convenient ride to the Zahrani Power Plant. Throughout the journey\, attendees will have ample opportunity to engage with one another and bask in the picturesque views of the surrounding area. \nUpon arrival\, expert guides will greet attendees and lead them on a comprehensive tour of the power plant’s various facilities. The tour is designed to provide attendees with a deep understanding of the plant’s operations\, as well as insights into the latest technological advances that make modern power generation possible. \nAfter the tour\, attendees will have the opportunity to engage in an informative Q&A session with the plant’s knowledgeable experts. The session is designed to foster dialogue and facilitate the exchange of ideas\, making it a highly engaging and productive experience for all involved. \nFinally\, attendees will board the university bus at 12:30 PM for a comfortable and safe return trip. \n  \nNote that this is the second batch of students as there will be others later this year.
URL:https://lreee.org/event/zahrani-power-plant-field-visit-2023-2-24-may-2023/
CATEGORIES:events-jc
END:VEVENT
BEGIN:VEVENT
DTSTART;TZID=UTC:20230523T153000
DTEND;TZID=UTC:20230523T163000
DTSTAMP:20260419T153011
CREATED:20230519T151738Z
LAST-MODIFIED:20230519T151920Z
UID:790-1684855800-1684859400@lreee.org
SUMMARY:BLOCKCHAIN TO FIGHT HYPERINFLATION - May 19\, 2023
DESCRIPTION:Blockchain To Fight Hyperinflation \n🎙️| Who will give this session? \n▶️| Maseh Hadaf & Christa-Maria Daoud \nMaseh Hadaf: He is the cofounder at Sinbad\, a digital dollar wallet that helps people protect their savings from hyperinflation in the Middle East and North Africa. Sinbad is 1 of 6 companies out of 30 that graduated from the year-long\, highly competitive Creative Destruction Labs Blockchain Programme\, based out of the University of Toronto. He has worked at Global Affairs Canada\, the UNDP in Ukraine\, and with an organization serving refugees in Jordan. He is a top 30 under 30 York University alumni\, Rhodes scholar finalist\, and recipient of the national Canadian CGS-M scholarship for his paper on the relationship between gender and mobile internet use in Afghanistan. \nChrista-Maria Daoud: She is a driven individual who has dedicated herself to community engagement and building. As a Business Management student at Lebanese American University (LAU)\, she has achieved academic excellence and received a fully funded higher education scholarship from the United States Agency for International Development (USAID).\nIn addition to her academic achievements\, Christa-Maria has demonstrated a deep commitment to social and humanitarian causes. She volunteers for over 12 hours each month with various NGOs. Her passion for community service has helped her develop a deep understanding of the challenges that many people face\, as well as the importance of working collaboratively to overcome these challenges.\nAs a community manager at Sinbad\, she is responsible for finding universities to collaborate with\, co-facilitating workshops\, and managing social media accounts. Her excellent communication skills and ability to connect with people have been instrumental in her success at Sinbad. \n⏺️| Topics to be discussed \n• Exploring whether blockchain can help fight hyperinflationv\n• Discuss hyperinflation\, dollarization\, and stablecoin in Lebanon\n• Do a demo of transferring with a self custody wallet\n• Compare case studies of blockchain in other hyperinflationary countries) \n🗓| When will this happen?\nMonday\, May 22\, 2023 | at 3:30 pm\, Beirut Time (GMT +2) \n📍| Where’s the location? \nAmphitheater\, Block D at LIU (Beirut Campus) / Google Meet. \n💰| How much am I going to pay?\nIt’s absolutely free.\nWe prefer to create free of charge events about topics without any restriction\, so no money is needed to attend the seminar! \n✍| Registration link \nhttps://forms.gle/d2CXeXaTeAc2Zhog6 \n\nSalim-Salam\nBeirut\, Lebanon\nLebanon\nBuilding: Block D\nRoom Number: Amphitheater\n\nMore Info: ieee@students.liu.edu.lb
URL:https://lreee.org/event/blockchain-to-fight-hyperinflation-may-19-2023/
CATEGORIES:events-jc
END:VEVENT
BEGIN:VEVENT
DTSTART;TZID=UTC:20230522T080000
DTEND;TZID=UTC:20230522T123000
DTSTAMP:20260419T153011
CREATED:20230513T111728Z
LAST-MODIFIED:20230513T111728Z
UID:786-1684742400-1684758600@lreee.org
SUMMARY:ZAHRANI POWER PLANT FIELD VISIT 2023 #1 22 May 2023
DESCRIPTION:We cordially invite you to join us on Monday\, May 22nd\, 2023 for a highly informative and educational field visit to the Zahrani Power Plant. This event is an unparalleled opportunity to gain invaluable insights into the cutting-edge technology and processes behind modern power generation. \nThe field visit will commence promptly at 8:00 AM at the Lebanese International University\, whereupon attendees will board the university bus for a comfortable and convenient ride to the Zahrani Power Plant. Throughout the journey\, attendees will have ample opportunity to engage with one another and bask in the picturesque views of the surrounding area. \nUpon arrival\, expert guides will greet attendees and lead them on a comprehensive tour of the power plant’s various facilities. The tour is designed to provide attendees with a deep understanding of the plant’s operations\, as well as insights into the latest technological advances that make modern power generation possible. \nAfter the tour\, attendees will have the opportunity to engage in an informative Q&A session with the plant’s knowledgeable experts. The session is designed to foster dialogue and facilitate the exchange of ideas\, making it a highly engaging and productive experience for all involved. \nFinally\, attendees will board the university bus at 12:30 PM for a comfortable and safe return trip. \n  \nNote that this is the first batch of students as there will be others later this year.
URL:https://lreee.org/event/zahrani-power-plant-field-visit-2023-1-22-may-2023/
CATEGORIES:events-jc
END:VEVENT
BEGIN:VEVENT
DTSTART;TZID=UTC:20230520T100000
DTEND;TZID=UTC:20230520T120000
DTSTAMP:20260419T153011
CREATED:20230512T143324Z
LAST-MODIFIED:20230512T185156Z
UID:780-1684576800-1684584000@lreee.org
SUMMARY:Arduino Workshop - May 20\, 2023
DESCRIPTION:#️⃣ Arduino Workshop #️⃣ \n🗣️ Calling all university students! \nCome join us for a fun and informative workshop on Arduino. In this workshop\, you’ll learn how to code and build your own electronic gadgets\, using simple components like LEDs\, sensors\, and motors. No prior experience is necessary!\nArduino starter kits will be provided for use at the workshop.\nParticipants are encouraged to bring their own laptops. 💻 \n🗓️ Saturday May 20\, 2023 at 10:00 AM\n📍 City University campus – KABA Bldg K-G01\n💰 Free and open for all university students \nLimited places available. Register now: https://forms.gle/ccmKkryP7LDX9ALc6
URL:https://lreee.org/event/arduino-workshop-may-20-2023/
END:VEVENT
BEGIN:VEVENT
DTSTART;TZID=UTC:20230519T090000
DTEND;TZID=UTC:20230519T143000
DTSTAMP:20260419T153011
CREATED:20230519T153523Z
LAST-MODIFIED:20230519T153605Z
UID:794-1684486800-1684506600@lreee.org
SUMMARY:HIGH SCHOOL MAGNETICS LAB SESSION 3 - May 19\, 2023
DESCRIPTION:The third Magnetic Lab Experiments that will be conducted on Friday\, May 19 at the Beirut Baptist School (BBS) according to the schedule below: \n\n\n\nGrade Level\nTiming\nRoom\n\n\nGrade 11\, 20 students\n10:00- 12:00\nPhysics Lab\n\n\nGrade 11\, 20 students\n12:00 – 1:30\nPhysics Lab
URL:https://lreee.org/event/high-school-magnetics-lab-session-3-may-19-2023/
END:VEVENT
BEGIN:VEVENT
DTSTART;TZID=UTC:20230518T160000
DTEND;TZID=UTC:20230518T170000
DTSTAMP:20260419T153011
CREATED:20230508T195328Z
LAST-MODIFIED:20230508T195328Z
UID:777-1684425600-1684429200@lreee.org
SUMMARY:Power System Reliability Assessment by Lina Bertling Tjernberg
DESCRIPTION:You are invited to attend an event about Power System Reliability Assessment by Lina Bertling Tjernberg.\n\n\nThe webinar will be hybrid at LIU Beirut Campus\n\n\nURL Registration: https://forms.gle/xUE3NnBSWchpZbHX6\nDate: Thursday\, May 18 · 4:00 – 5:00pm\nTime zone: Asia/Beirut\nGoogle Meet joining info\nVideo call link: https://meet.google.com/kcs-rstx-gzo\nOr dial: ‪(US) +1 435-574-4231‬ PIN: ‪593 246 290‬#
URL:https://lreee.org/event/power-system-reliability-assessment-by-lina-bertling-tjernberg/
END:VEVENT
BEGIN:VEVENT
DTSTART;TZID=UTC:20230512T080000
DTEND;TZID=UTC:20230512T163000
DTSTAMP:20260419T153011
CREATED:20230512T185015Z
LAST-MODIFIED:20230512T185251Z
UID:783-1683878400-1683909000@lreee.org
SUMMARY:ROBOCAR 1.0 - 12 May 2023
DESCRIPTION:Robocar 1.0 is a one-of-a-kind event designed to encourage high school students to explore the exciting world of robotics and engineering. Hosted by the Lebanese International University\, the event aims to inspire and educate students about the latest developments in the field of Arduino technology. During the event\, students will have the opportunity to learn about the fundamentals of power management\, electronics\, power electronics\, coding\, and circuit design. Through engaging workshops and interactive sessions\, participants will gain valuable insights into the world of robotics and engineering. They will also have the chance to compete with their peers to design and build a small robotic car using Arduino technology. With a focus on hands-on learning and practical skills development\, Robocar 1.0 promises to be an exciting and enriching experience for all attendees. No need to have any robotics background from students because they will learn the basics from our experts and how to assemble it. After that\, each group will try to assemble the robot and they will compete together in order to meet the best robot performance within a predefined time duration. At the end of the competition\, three awards will be distributed for the first three groups. \nLocation:\nLebanese International University Beirut Campus- Salim Sallam Block B Auditorium B \nAgenda: \n\n\n\nRegistration\n8:30-9:00\n\n\n\n\n\n\nWelcome speech\n9:00 – 9:10\n\n\n\n\n\n\nRobocar explanation and application\n9:10 – 12:00\n\n\n\n\n\n\nQ/A\n12:00 – 12:30\n\n\n\n\n\n\nLunch break\n12:30 – 13:30\n\n\n\n\n\n\nRobocar assembly by each student group\n13:30 – 15:00\n\n\n\n\n\n\nClosing and Award distribution\n15:30\n\n\n\nCompetition Criteria: \n– High school students (1st \, 2nd or 3rd secondary year) are concerned.\n– Every group is formed from two students.\n– One group will represent each school.\n– The school administration is the responsible to propose the group names.\n– No registration fees are required.
URL:https://lreee.org/event/robocar-1-0-12-may-2023/
END:VEVENT
BEGIN:VEVENT
DTSTART;VALUE=DATE:20230503
DTEND;VALUE=DATE:20230506
DTSTAMP:20260419T153011
CREATED:20230501T130738Z
LAST-MODIFIED:20230501T130738Z
UID:765-1683072000-1683331199@lreee.org
SUMMARY:The 2nd edition of Middle East Clean Energy
DESCRIPTION:Join us for a brighter tomorrow! \nStep into the world of sustainable energy at Middle East Clean Energy The National Trade Fair for Clean And Renewable Energy on May 3 until 5\, 2023 in Mövenpick Hotel Beirut. \nDiscover how clean and renewable energy is transforming the way we live\, work\, and play. Be part of the green revolution and learn about the latest advancements in solar technology from industry leaders. \nTo secure your place at Middle East Clean Energy on 3 – 5 May 2023\, register here free of charge\nhttps://ihjoz.com/events/6991 \nSee you there! \n 
URL:https://lreee.org/event/the-2nd-edition-of-middle-east-clean-energy/
END:VEVENT
END:VCALENDAR